BEGIN:VCALENDAR
VERSION:2.0
PRODID:-//Western Sydney Symphony Orchestra - ECPv6.15.20//NONSGML v1.0//EN
CALSCALE:GREGORIAN
METHOD:PUBLISH
X-ORIGINAL-URL:https://www.wsso.com.au
X-WR-CALDESC:Events for Western Sydney Symphony Orchestra
REFRESH-INTERVAL;VALUE=DURATION:PT1H
X-Robots-Tag:noindex
X-PUBLISHED-TTL:PT1H
BEGIN:VTIMEZONE
TZID:UTC
BEGIN:STANDARD
TZOFFSETFROM:+0000
TZOFFSETTO:+0000
TZNAME:UTC
DTSTART:20230101T000000
END:STANDARD
END:VTIMEZONE
BEGIN:VEVENT
DTSTART;TZID=UTC:20240420T193000
DTEND;TZID=UTC:20240420T210000
DTSTAMP:20260422T160054
CREATED:20240208T134339Z
LAST-MODIFIED:20240408T111234Z
UID:66-1713641400-1713646800@www.wsso.com.au
SUMMARY:Holiday Concert 1 2024 (wsso concert No. 3)
DESCRIPTION:HOLIDAY CONCERT 1 2024\nGreat Concert of Great Classical Symphonies\nWSSI Concert No. 5\n20 April 2024\n7:30 PM\nTLC Theatre\nBaulkham Hills High School\nSydney Australia \nWestern Sydney Symphony Orchestra\nConductor – Dr Brian Chatpo Koo\nConcertmaster – Beata Stanowska \nPROGRAM \n\nSymphony No.31 in D Major\, by W. A. Mozart\nI Allegro assai\nII Andantino\nIII Allegro\nSymphony No. 2 in D Major\, by  L. V. Beethoven\nI Adagio molto\, Allegro con brio\nII Larghetto\nIII Scherzo and Trio\nIV Allegro molto\n\n 
URL:https://www.wsso.com.au/concert/wsso-concert-1-2024/
LOCATION:TLC Theatre\, 419A Windsor Rd\,\, Baulkham Hills\, NSW\, 2153\, Australia
CATEGORIES:CONCERTS
ATTACH;FMTTYPE=image/png:https://www.wsso.com.au/wp-content/uploads/2024/02/wssoc.poster2024.1-2.png
ORGANIZER;CN="Western Sydney Symphony Orchestra":MAILTO:office.wsso.com.au
END:VEVENT
END:VCALENDAR