BEGIN:VCALENDAR
VERSION:2.0
PRODID:-//Western Sydney Symphony Orchestra - ECPv6.15.20//NONSGML v1.0//EN
CALSCALE:GREGORIAN
METHOD:PUBLISH
X-ORIGINAL-URL:https://www.wsso.com.au
X-WR-CALDESC:Events for Western Sydney Symphony Orchestra
REFRESH-INTERVAL;VALUE=DURATION:PT1H
X-Robots-Tag:noindex
X-PUBLISHED-TTL:PT1H
BEGIN:VTIMEZONE
TZID:UTC
BEGIN:STANDARD
TZOFFSETFROM:+0000
TZOFFSETTO:+0000
TZNAME:UTC
DTSTART:20230101T000000
END:STANDARD
END:VTIMEZONE
BEGIN:VEVENT
DTSTART;TZID=UTC:20240713T193000
DTEND;TZID=UTC:20240713T210000
DTSTAMP:20260422T102926
CREATED:20240208T142814Z
LAST-MODIFIED:20240707T032308Z
UID:77-1720899000-1720904400@www.wsso.com.au
SUMMARY:Holiday Concert 2 2024 (wsso concert No. 4)
DESCRIPTION:Holiday Concert 2 2024\nGreat Concert of Great Classical Symphonies \nWSSO Concert No.4 \nPROGRAM \nF. Schubert\nSymphony No.1 in D Major \nL.V. Beethoven\nSymphony No.7 in A Major Op.92 \nConductor – Dr Brian Chatpo Koo\nConcertmaster – Beata Stanowska
URL:https://www.wsso.com.au/concert/wsso-concert-2-2024/
LOCATION:TLC Theatre\, 419A Windsor Rd\,\, Baulkham Hills\, NSW\, 2153\, Australia
CATEGORIES:CONCERTS
ATTACH;FMTTYPE=image/png:https://www.wsso.com.au/wp-content/uploads/2024/02/wssoc.poster2024.2-2.png
END:VEVENT
END:VCALENDAR